BEGIN:VCALENDAR
VERSION:2.0
X-WR-CALNAME: Upcoming shows
PRODID:GIGPRESS 2.0 WORDPRESS PLUGIN
CALSCALE:GREGORIAN
X-WR-TIMEZONE:Etc/GMT
METHOD:PUBLISH
BEGIN:VTIMEZONE
TZID:GMT
BEGIN:STANDARD
DTSTART:20071028T010000
TZOFFSETTO:+0000
TZOFFSETFROM:+0000
END:STANDARD
END:VTIMEZONE
BEGIN:VEVENT
SUMMARY:Orgy at Las Vegas Festival Grounds
DESCRIPTION:Tour: Sick New World. All Ages
LOCATION:Las Vegas Festival Grounds\, 311 W Sahara Avenue\, Las Vegas\, US
UID:20260425T180000Z-458-orgymusic2012@gmail.com
URL:https://orgymusic.com
DTSTART;VALUE=DATE-TIME;TZID=GMT:20260425T180000Z
DTEND;VALUE=DATE-TIME;TZID=GMT:20260425T180000Z
DTSTAMP:20260425T115602Z
END:VEVENT
BEGIN:VEVENT
SUMMARY:Orgy at The Whisky A Go Go
DESCRIPTION:Tour: Orgy Tour. All Ages
LOCATION:The Whisky A Go Go\, 8901 Sunset Boulevard\, Sunset Strip\, West Hollywood\, US
UID:20260619T180000Z-457-orgymusic2012@gmail.com
URL:https://orgymusic.com
DTSTART;VALUE=DATE-TIME;TZID=GMT:20260619T180000Z
DTEND;VALUE=DATE-TIME;TZID=GMT:20260619T180000Z
DTSTAMP:20260425T115602Z
END:VEVENT
BEGIN:VEVENT
SUMMARY:Orgy at iTHINK Financial Amphitheatre
DESCRIPTION:Tour: 2026 Zombie / Manson Freaks On Parade Tour. All Ages
LOCATION:iTHINK Financial Amphitheatre\, West Palm Beach\, US
UID:20260820T180000Z-436-orgymusic2012@gmail.com
URL:https://orgymusic.com
DTSTART;VALUE=DATE-TIME;TZID=GMT:20260820T180000Z
DTEND;VALUE=DATE-TIME;TZID=GMT:20260820T180000Z
DTSTAMP:20260425T115602Z
END:VEVENT
BEGIN:VEVENT
SUMMARY:Orgy at MIDFLORIDA Credit Union Amphitheatre
DESCRIPTION:Tour: 2026 Zombie / Manson Freaks On Parade Tour. All Ages
LOCATION:MIDFLORIDA Credit Union Amphitheatre\, Tampa\, US
UID:20260821T180000Z-437-orgymusic2012@gmail.com
URL:https://orgymusic.com
DTSTART;VALUE=DATE-TIME;TZID=GMT:20260821T180000Z
DTEND;VALUE=DATE-TIME;TZID=GMT:20260821T180000Z
DTSTAMP:20260425T115602Z
END:VEVENT
BEGIN:VEVENT
SUMMARY:Orgy at Ameris Bank Amphitheatre
DESCRIPTION:Tour: 2026 Zombie / Manson Freaks On Parade Tour. All Ages
LOCATION:Ameris Bank Amphitheatre\, Alpharetta\, US
UID:20260823T180000Z-438-orgymusic2012@gmail.com
URL:https://orgymusic.com
DTSTART;VALUE=DATE-TIME;TZID=GMT:20260823T180000Z
DTEND;VALUE=DATE-TIME;TZID=GMT:20260823T180000Z
DTSTAMP:20260425T115602Z
END:VEVENT
BEGIN:VEVENT
SUMMARY:Orgy at PNC Music Pavilion
DESCRIPTION:Tour: 2026 Zombie / Manson Freaks On Parade Tour. All Ages
LOCATION:PNC Music Pavilion\, Charlotte\, US
UID:20260824T180000Z-439-orgymusic2012@gmail.com
URL:https://orgymusic.com
DTSTART;VALUE=DATE-TIME;TZID=GMT:20260824T180000Z
DTEND;VALUE=DATE-TIME;TZID=GMT:20260824T180000Z
DTSTAMP:20260425T115602Z
END:VEVENT
BEGIN:VEVENT
SUMMARY:Orgy at PNC Bank Arts
DESCRIPTION:Tour: 2026 Zombie / Manson Freaks On Parade Tour. All Ages
LOCATION:PNC Bank Arts\, Holmdel\, US
UID:20260826T180000Z-440-orgymusic2012@gmail.com
URL:https://orgymusic.com
DTSTART;VALUE=DATE-TIME;TZID=GMT:20260826T180000Z
DTEND;VALUE=DATE-TIME;TZID=GMT:20260826T180000Z
DTSTAMP:20260425T115602Z
END:VEVENT
BEGIN:VEVENT
SUMMARY:Orgy at Xfinity Center
DESCRIPTION:Tour: 2026 Zombie / Manson Freaks On Parade Tour. All Ages
LOCATION:Xfinity Center\, Mansfield\, US
UID:20260827T180000Z-441-orgymusic2012@gmail.com
URL:https://orgymusic.com
DTSTART;VALUE=DATE-TIME;TZID=GMT:20260827T180000Z
DTEND;VALUE=DATE-TIME;TZID=GMT:20260827T180000Z
DTSTAMP:20260425T115602Z
END:VEVENT
BEGIN:VEVENT
SUMMARY:Orgy at The Pavilion at Star Lake
DESCRIPTION:Tour: 2026 Zombie / Manson Freaks On Parade Tour. All Ages
LOCATION:The Pavilion at Star Lake\, Burgettstown\, US
UID:20260829T180000Z-442-orgymusic2012@gmail.com
URL:https://orgymusic.com
DTSTART;VALUE=DATE-TIME;TZID=GMT:20260829T180000Z
DTEND;VALUE=DATE-TIME;TZID=GMT:20260829T180000Z
DTSTAMP:20260425T115602Z
END:VEVENT
BEGIN:VEVENT
SUMMARY:Orgy at Darien Lake Amphitheater
DESCRIPTION:Tour: 2026 Zombie / Manson Freaks On Parade Tour. All Ages
LOCATION:Darien Lake Amphitheater\, Buffalo\, US
UID:20260830T180000Z-443-orgymusic2012@gmail.com
URL:https://orgymusic.com
DTSTART;VALUE=DATE-TIME;TZID=GMT:20260830T180000Z
DTEND;VALUE=DATE-TIME;TZID=GMT:20260830T180000Z
DTSTAMP:20260425T115602Z
END:VEVENT
BEGIN:VEVENT
SUMMARY:Orgy at RBC Amphitheatre
DESCRIPTION:Tour: 2026 Zombie / Manson Freaks On Parade Tour. All Ages
LOCATION:RBC Amphitheatre\, Toronto\, US
UID:20260901T180000Z-444-orgymusic2012@gmail.com
URL:https://orgymusic.com
DTSTART;VALUE=DATE-TIME;TZID=GMT:20260901T180000Z
DTEND;VALUE=DATE-TIME;TZID=GMT:20260901T180000Z
DTSTAMP:20260425T115602Z
END:VEVENT
BEGIN:VEVENT
SUMMARY:Orgy at Blossom Music Center
DESCRIPTION:Tour: 2026 Zombie / Manson Freaks On Parade Tour. All Ages
LOCATION:Blossom Music Center\, Cuyahoga Falls\, US
UID:20260902T180000Z-445-orgymusic2012@gmail.com
URL:https://orgymusic.com
DTSTART;VALUE=DATE-TIME;TZID=GMT:20260902T180000Z
DTEND;VALUE=DATE-TIME;TZID=GMT:20260902T180000Z
DTSTAMP:20260425T115602Z
END:VEVENT
BEGIN:VEVENT
SUMMARY:Orgy at Pine Knob Music Theatre
DESCRIPTION:Tour: 2026 Zombie / Manson Freaks On Parade Tour. All Ages
LOCATION:Pine Knob Music Theatre\, Clarkston\, US
UID:20260904T180000Z-446-orgymusic2012@gmail.com
URL:https://orgymusic.com
DTSTART;VALUE=DATE-TIME;TZID=GMT:20260904T180000Z
DTEND;VALUE=DATE-TIME;TZID=GMT:20260904T180000Z
DTSTAMP:20260425T115602Z
END:VEVENT
BEGIN:VEVENT
SUMMARY:Orgy at Credit Union 1 Amphitheatre
DESCRIPTION:Tour: 2026 Zombie / Manson Freaks On Parade Tour. All Ages
LOCATION:Credit Union 1 Amphitheatre\, Tinley Park\, US
UID:20260905T180000Z-447-orgymusic2012@gmail.com
URL:https://orgymusic.com
DTSTART;VALUE=DATE-TIME;TZID=GMT:20260905T180000Z
DTEND;VALUE=DATE-TIME;TZID=GMT:20260905T180000Z
DTSTAMP:20260425T115602Z
END:VEVENT
BEGIN:VEVENT
SUMMARY:Orgy at Ruoff Music Center
DESCRIPTION:Tour: 2026 Zombie / Manson Freaks On Parade Tour. All Ages
LOCATION:Ruoff Music Center\, Nobelsville\, US
UID:20260906T180000Z-448-orgymusic2012@gmail.com
URL:https://orgymusic.com
DTSTART;VALUE=DATE-TIME;TZID=GMT:20260906T180000Z
DTEND;VALUE=DATE-TIME;TZID=GMT:20260906T180000Z
DTSTAMP:20260425T115602Z
END:VEVENT
BEGIN:VEVENT
SUMMARY:Orgy at Hollywood Casino Amphitheater
DESCRIPTION:Tour: 2026 Zombie / Manson Freaks On Parade Tour. All Ages
LOCATION:Hollywood Casino Amphitheater\, St. Louis\, US
UID:20260909T180000Z-449-orgymusic2012@gmail.com
URL:https://orgymusic.com
DTSTART;VALUE=DATE-TIME;TZID=GMT:20260909T180000Z
DTEND;VALUE=DATE-TIME;TZID=GMT:20260909T180000Z
DTSTAMP:20260425T115602Z
END:VEVENT
BEGIN:VEVENT
SUMMARY:Orgy at Morton Amphitheater
DESCRIPTION:Tour: 2026 Zombie / Manson Freaks On Parade Tour. All Ages
LOCATION:Morton Amphitheater\, Kansas City\, US
UID:20260910T180000Z-450-orgymusic2012@gmail.com
URL:https://orgymusic.com
DTSTART;VALUE=DATE-TIME;TZID=GMT:20260910T180000Z
DTEND;VALUE=DATE-TIME;TZID=GMT:20260910T180000Z
DTSTAMP:20260425T115602Z
END:VEVENT
BEGIN:VEVENT
SUMMARY:Orgy at Fiddler's Green Amphitheatre
DESCRIPTION:Tour: 2026 Zombie / Manson Freaks On Parade Tour. All Ages
LOCATION:Fiddler's Green Amphitheatre\, Greenwood Village\, US
UID:20260912T180000Z-451-orgymusic2012@gmail.com
URL:https://orgymusic.com
DTSTART;VALUE=DATE-TIME;TZID=GMT:20260912T180000Z
DTEND;VALUE=DATE-TIME;TZID=GMT:20260912T180000Z
DTSTAMP:20260425T115602Z
END:VEVENT
BEGIN:VEVENT
SUMMARY:Orgy at Utah First Credit Union Amphitheatre
DESCRIPTION:Tour: 2026 Zombie / Manson Freaks On Parade Tour. All Ages
LOCATION:Utah First Credit Union Amphitheatre\, Salt Lake City\, US
UID:20260914T180000Z-452-orgymusic2012@gmail.com
URL:https://orgymusic.com
DTSTART;VALUE=DATE-TIME;TZID=GMT:20260914T180000Z
DTEND;VALUE=DATE-TIME;TZID=GMT:20260914T180000Z
DTSTAMP:20260425T115602Z
END:VEVENT
BEGIN:VEVENT
SUMMARY:Orgy at BECU Live at Northern Quest
DESCRIPTION:Tour: 2026 Zombie / Manson Freaks On Parade Tour. All Ages
LOCATION:BECU Live at Northern Quest\, Airway Heights\, US
UID:20260916T180000Z-453-orgymusic2012@gmail.com
URL:https://orgymusic.com
DTSTART;VALUE=DATE-TIME;TZID=GMT:20260916T180000Z
DTEND;VALUE=DATE-TIME;TZID=GMT:20260916T180000Z
DTSTAMP:20260425T115602Z
END:VEVENT
BEGIN:VEVENT
SUMMARY:Orgy at White River Amphitheatre
DESCRIPTION:Tour: 2026 Zombie / Manson Freaks On Parade Tour. All Ages
LOCATION:White River Amphitheatre\, Auburn\, US
UID:20260917T180000Z-454-orgymusic2012@gmail.com
URL:https://orgymusic.com
DTSTART;VALUE=DATE-TIME;TZID=GMT:20260917T180000Z
DTEND;VALUE=DATE-TIME;TZID=GMT:20260917T180000Z
DTSTAMP:20260425T115602Z
END:VEVENT
BEGIN:VEVENT
SUMMARY:Orgy at Cascades Amphitheater
DESCRIPTION:Tour: 2026 Zombie / Manson Freaks On Parade Tour. All Ages
LOCATION:Cascades Amphitheater\, Ridgefield\, US
UID:20260918T180000Z-455-orgymusic2012@gmail.com
URL:https://orgymusic.com
DTSTART;VALUE=DATE-TIME;TZID=GMT:20260918T180000Z
DTEND;VALUE=DATE-TIME;TZID=GMT:20260918T180000Z
DTSTAMP:20260425T115602Z
END:VEVENT
BEGIN:VEVENT
SUMMARY:Orgy at Toyota Pavilion at Concord
DESCRIPTION:Tour: 2026 Zombie / Manson Freaks On Parade Tour. All Ages
LOCATION:Toyota Pavilion at Concord\, Concord\, US
UID:20260920T180000Z-456-orgymusic2012@gmail.com
URL:https://orgymusic.com
DTSTART;VALUE=DATE-TIME;TZID=GMT:20260920T180000Z
DTEND;VALUE=DATE-TIME;TZID=GMT:20260920T180000Z
DTSTAMP:20260425T115602Z
END:VEVENT
BEGIN:VEVENT
SUMMARY:Orgy at Texas Motor Speedway
DESCRIPTION:Tour: Sick New World. All Ages
LOCATION:Texas Motor Speedway\, Fort Worth\, US
UID:20261024T180000Z-459-orgymusic2012@gmail.com
URL:https://orgymusic.com
DTSTART;VALUE=DATE-TIME;TZID=GMT:20261024T180000Z
DTEND;VALUE=DATE-TIME;TZID=GMT:20261024T180000Z
DTSTAMP:20260425T115602Z
END:VEVENT
BEGIN:VEVENT
SUMMARY:Orgy at Birmingham 02 Academy
DESCRIPTION:Tour: Skindred UK 2026. All Ages
LOCATION:Birmingham 02 Academy\, Birmingham\, UK
UID:20261030T180000Z-461-orgymusic2012@gmail.com
URL:https://orgymusic.com
DTSTART;VALUE=DATE-TIME;TZID=GMT:20261030T180000Z
DTEND;VALUE=DATE-TIME;TZID=GMT:20261030T180000Z
DTSTAMP:20260425T115602Z
END:VEVENT
BEGIN:VEVENT
SUMMARY:Orgy at London Alexandra Palace
DESCRIPTION:Tour: Skindred UK 2026. All Ages
LOCATION:London Alexandra Palace\, London\, UK
UID:20261031T180000Z-462-orgymusic2012@gmail.com
URL:https://orgymusic.com
DTSTART;VALUE=DATE-TIME;TZID=GMT:20261031T180000Z
DTEND;VALUE=DATE-TIME;TZID=GMT:20261031T180000Z
DTSTAMP:20260425T115602Z
END:VEVENT
END:VCALENDAR